View In:
ArcGIS JavaScript
ArcGIS.com Map
ArcGIS Earth
ArcMap
View Footprint In:
ArcGIS.com Map
Service Description: Aerial 1940 of Austin area in Travis County Texas
Name: Basemap_Reference/Aerial1940
Description: Aerial 1940 of Austin area in Travis County Texas
Single Fused Map Cache: false
Extent:
XMin: 3023065.578201004
YMin: 9983817.776045889
XMax: 3200900.0292873625
YMax: 1.0159449808820082E7
Spatial Reference: 102739
(2277)
LatestVCSWkid(0)
Initial Extent:
XMin: 3023065.578201004
YMin: 9983817.776045889
XMax: 3200900.0292873625
YMax: 1.0159449808820082E7
Spatial Reference: 102739
(2277)
LatestVCSWkid(0)
Full Extent:
XMin: 3023065.578201004
YMin: 9983817.776045889
XMax: 3200900.0292873625
YMax: 1.0159449808820082E7
Spatial Reference: 102739
(2277)
LatestVCSWkid(0)
Pixel Size X: 1.604091997206991
Pixel Size Y: 1.604091997206989
Band Count: 1
Pixel Type: U8
RasterFunction Infos: {"rasterFunctionInfos": [{
"name": "None",
"description": "",
"help": ""
}]}
Mensuration Capabilities: Basic
Has Histograms: true
Has Colormap: false
Has Multi Dimensions : false
Rendering Rule:
Min Scale: 0
Max Scale: 0
Copyright Text:
Service Data Type: esriImageServiceDataTypeGeneric
Min Values: 0
Max Values: 254
Mean Values: 113.02526003977
Standard Deviation Values: 37.50725720681
Object ID Field:
Fields:
None
Default Mosaic Method: Center
Allowed Mosaic Methods:
SortField:
SortValue: null
Mosaic Operator: First
Default Compression Quality: 75
Default Resampling Method: Bilinear
Max Record Count: null
Max Image Height: 4100
Max Image Width: 15000
Max Download Image Count: null
Max Mosaic Image Count: null
Allow Raster Function: true
Allow Copy: null
Allow Analysis: null
Allow Compute TiePoints: false
Supports Statistics: false
Supports Advanced Queries: false
Use StandardizedQueries: true
Raster Type Infos:
Name: Raster Dataset
Description: Supports all ArcGIS Raster Datasets
Help:
Has Raster Attribute Table: false
Edit Fields Info: null
Ownership Based AccessControl For Rasters: null
Child Resources:
Info
Histograms
Key Properties
Legend
Raster Function Infos
Supported Operations:
Export Image
Identify
Measure
Compute Histograms
Compute Statistics Histograms
Get Samples
Compute Class Statistics
Query Boundary
Compute Pixel Location
Compute Angles
Validate
Project